BEGIN:VCALENDAR
VERSION:2.0
PRODID:-//Lord of Glory Lutheran Church - Grayslake Illinois - ECPv6.15.20//NONSGML v1.0//EN
CALSCALE:GREGORIAN
METHOD:PUBLISH
X-WR-CALNAME:Lord of Glory Lutheran Church - Grayslake Illinois
X-ORIGINAL-URL:https://lordofglory.org
X-WR-CALDESC:Events for Lord of Glory Lutheran Church - Grayslake Illinois
REFRESH-INTERVAL;VALUE=DURATION:PT1H
X-Robots-Tag:noindex
X-PUBLISHED-TTL:PT1H
BEGIN:VTIMEZONE
TZID:America/Chicago
BEGIN:DAYLIGHT
TZOFFSETFROM:-0600
TZOFFSETTO:-0500
TZNAME:CDT
DTSTART:20250309T080000
END:DAYLIGHT
BEGIN:STANDARD
TZOFFSETFROM:-0500
TZOFFSETTO:-0600
TZNAME:CST
DTSTART:20251102T070000
END:STANDARD
BEGIN:DAYLIGHT
TZOFFSETFROM:-0600
TZOFFSETTO:-0500
TZNAME:CDT
DTSTART:20260308T080000
END:DAYLIGHT
BEGIN:STANDARD
TZOFFSETFROM:-0500
TZOFFSETTO:-0600
TZNAME:CST
DTSTART:20261101T070000
END:STANDARD
BEGIN:DAYLIGHT
TZOFFSETFROM:-0600
TZOFFSETTO:-0500
TZNAME:CDT
DTSTART:20270314T080000
END:DAYLIGHT
BEGIN:STANDARD
TZOFFSETFROM:-0500
TZOFFSETTO:-0600
TZNAME:CST
DTSTART:20271107T070000
END:STANDARD
END:VTIMEZONE
BEGIN:VEVENT
DTSTART;TZID=America/Chicago:20260615T090000
DTEND;TZID=America/Chicago:20260619T120000
DTSTAMP:20260422T174346
CREATED:20260114T180646Z
LAST-MODIFIED:20260219T160516Z
UID:19781-1781514000-1781870400@lordofglory.org
SUMMARY:Vacation Bible School
DESCRIPTION:Step through the mist into Rainforest Falls\, overflowing with wild waterfalls\, towering trees\, and colorful creatures. Beneath a canopy of chattering birds and howling monkeys\, kids plunge into a lifelong adventure of discovering the nature of God. They’ll explore what it means to be rooted in relationship with God\, their creator\, a safe place in life’s storms.
URL:https://lordofglory.org/event/vacation-bible-school/
CATEGORIES:Children,Youth
ATTACH;FMTTYPE=image/jpeg:https://eadn-wc01-15328280.nxedge.io/wp-content/uploads/2026/01/Title-slide_no-info.jpg
END:VEVENT
BEGIN:VEVENT
DTSTART;TZID=America/Chicago:20260613T090000
DTEND;TZID=America/Chicago:20260613T110000
DTSTAMP:20260422T174346
CREATED:20251022T152557Z
LAST-MODIFIED:20260416T144734Z
UID:16155-1781341200-1781348400@lordofglory.org
SUMMARY:Prayer Shawl Ministry
DESCRIPTION:All knitters and crocheters are invited to join us as we create prayer shawls for people in need of comfort and care. Please park on the shed/gym side of the parking lot (not the front lot) to allow for food pantry operations in the front parking lot.
URL:https://lordofglory.org/event/prayer-shawl-ministry-4/
CATEGORIES:Prayer
ATTACH;FMTTYPE=image/jpeg:https://eadn-wc01-15328280.nxedge.io/wp-content/uploads/2024/10/prayer-shawl-ministry-lord-of-glory.jpg
END:VEVENT
BEGIN:VEVENT
DTSTART;TZID=America/Chicago:20260613T080000
DTEND;TZID=America/Chicago:20260613T100000
DTSTAMP:20260422T174346
CREATED:20260416T144231Z
LAST-MODIFIED:20260416T144233Z
UID:23340-1781337600-1781344800@lordofglory.org
SUMMARY:Men's Breakfast
DESCRIPTION:Join other men for a hearty breakfast and Bible study on the second Saturday of each month in the church kitchen.
URL:https://lordofglory.org/event/mens-breakfast-2/
CATEGORIES:Men
ATTACH;FMTTYPE=image/jpeg:https://eadn-wc01-15328280.nxedge.io/wp-content/uploads/2024/07/men-bible-study-breakfast-lord-of-glory-grayslake.jpg
END:VEVENT
BEGIN:VEVENT
DTSTART;TZID=America/Chicago:20260606T063000
DTEND;TZID=America/Chicago:20260606T083000
DTSTAMP:20260422T174346
CREATED:20251022T184013Z
LAST-MODIFIED:20260416T144817Z
UID:16174-1780727400-1780734600@lordofglory.org
SUMMARY:Sanctuary Saturdays
DESCRIPTION:You’re warmly welcomed to the sanctuary on the first Saturday of each month for a quiet and open time of connection with our heavenly Father. Whether you seek solace\, guidance\, or simply a moment of stillness\, this is your space. Come as you are and find a peaceful spot to pray\, journal\, be in God’s word\, or just be in His presence. The sanctuary will be open from 6:30 to 8:30 AM.
URL:https://lordofglory.org/event/sanctuary-saturdays/
CATEGORIES:Prayer
ATTACH;FMTTYPE=image/jpeg:https://eadn-wc01-15328280.nxedge.io/wp-content/uploads/2024/02/saturday-morning-prayer-event-lord-of-glory-grayslake-1.jpg
END:VEVENT
BEGIN:VEVENT
DTSTART;TZID=America/Chicago:20260605T080000
DTEND;TZID=America/Chicago:20260606T120000
DTSTAMP:20260422T174346
CREATED:20260219T175033Z
LAST-MODIFIED:20260219T175035Z
UID:20734-1780646400-1780747200@lordofglory.org
SUMMARY:Rummage Sale
DESCRIPTION:CALLING ALL SHOPPERS! \n\n\n\nAmazing deals await at our annual rummage sale!\n\n\n\nDiscover incredible deals on furniture\, clothing\, housewares\, kitchen items\, sporting equipment\, baby clothes\, shoes\, jewelry\, and so much more!  \n\n\n\n  Friday\, June 5 | 8 AM–5 PM  Saturday\, June 6 | 8 AM–12 PM \n\n\n\nEvery purchase supports Lord of Glory’s Youth Ministry\, so shop generously and make a difference! See you there!
URL:https://lordofglory.org/event/rummage-sale-3/
CATEGORIES:Community,Youth
ATTACH;FMTTYPE=image/jpeg:https://eadn-wc01-15328280.nxedge.io/wp-content/uploads/2026/02/1.jpg
END:VEVENT
BEGIN:VEVENT
DTSTART;TZID=America/Chicago:20260517T080000
DTEND;TZID=America/Chicago:20260517T123000
DTSTAMP:20260422T174346
CREATED:20251027T154117Z
LAST-MODIFIED:20251027T154117Z
UID:17638-1779004800-1779021000@lordofglory.org
SUMMARY:Blood Drive
DESCRIPTION:You never know whose life you might save with a visit to one of the Lord of Glory Blood Drives. Versiti\, Blood Center of Illinois is the provider of blood products to 80+ hospitals in the Chicagoland area\, including our local Veterans hospitals – the hospitals that care for our loved ones. By donating blood at a Lord of Glory Blood Drive\, you will be impacting the lives of many in your community.
URL:https://lordofglory.org/event/blood-drive-2/
LOCATION:Lord of Glory Lutheran Church\, 607 W. Belvidere Road\, Grayslake\, IL\, 60030\, United States
CATEGORIES:Blood Drive
ATTACH;FMTTYPE=image/jpeg:https://eadn-wc01-15328280.nxedge.io/wp-content/uploads/2024/10/give-blood-event-lord-of-glory-grayslake.jpg
END:VEVENT
BEGIN:VEVENT
DTSTART;TZID=America/Chicago:20260516T100000
DTEND;TZID=America/Chicago:20260516T110000
DTSTAMP:20260422T174346
CREATED:20260112T184143Z
LAST-MODIFIED:20260413T200100Z
UID:19735-1778925600-1778929200@lordofglory.org
SUMMARY:Parent & Tot Hour
DESCRIPTION:Parent Tot Hour is a relaxed playtime for parents and children ages 0–2 to connect\, play\, and build community in a safe\, welcoming space.
URL:https://lordofglory.org/event/parent-tot-hour-2/
CATEGORIES:Children,Family
ATTACH;FMTTYPE=image/jpeg:https://eadn-wc01-15328280.nxedge.io/wp-content/uploads/2026/01/parent-tot-hour.jpg
END:VEVENT
BEGIN:VEVENT
DTSTART;TZID=America/Chicago:20260509T090000
DTEND;TZID=America/Chicago:20260509T110000
DTSTAMP:20260422T174346
CREATED:20251022T183845Z
LAST-MODIFIED:20260416T144551Z
UID:16172-1778317200-1778324400@lordofglory.org
SUMMARY:Prayer Shawl Ministry
DESCRIPTION:All knitters and crocheters are invited to join us as we create prayer shawls for people in need of comfort and care. Please park on the shed/gym side of the parking lot (not the front lot) to allow for food pantry operations in the front parking lot.
URL:https://lordofglory.org/event/prayer-shawl-ministry-5/
CATEGORIES:Prayer,Women
ATTACH;FMTTYPE=image/jpeg:https://eadn-wc01-15328280.nxedge.io/wp-content/uploads/2024/10/prayer-shawl-ministry-lord-of-glory.jpg
END:VEVENT
BEGIN:VEVENT
DTSTART;TZID=America/Chicago:20260509T080000
DTEND;TZID=America/Chicago:20260509T100000
DTSTAMP:20260422T174346
CREATED:20260112T194102Z
LAST-MODIFIED:20260413T195314Z
UID:19746-1778313600-1778320800@lordofglory.org
SUMMARY:Men's Breakfast
DESCRIPTION:Join other men for a hearty breakfast and Bible study on the second Saturday of each month in the church kitchen.
URL:https://lordofglory.org/event/mens-breakfast/
CATEGORIES:Bible Study,Men
ATTACH;FMTTYPE=image/jpeg:https://eadn-wc01-15328280.nxedge.io/wp-content/uploads/2024/07/men-bible-study-breakfast-lord-of-glory-grayslake.jpg
END:VEVENT
BEGIN:VEVENT
DTSTART;TZID=America/Chicago:20260502T063000
DTEND;TZID=America/Chicago:20260502T083000
DTSTAMP:20260422T174346
CREATED:20250502T025644Z
LAST-MODIFIED:20260413T195339Z
UID:2401-1777703400-1777710600@lordofglory.org
SUMMARY:Sanctuary Saturdays
DESCRIPTION:You’re warmly welcomed to the sanctuary on the first Saturday of each month for a quiet and open time of connection with our heavenly Father. Whether you seek solace\, guidance\, or simply a moment of stillness\, this is your space. Come as you are and find a peaceful spot to pray\, journal\, be in God’s word\, or just be in His presence. The sanctuary will be open from 6:30 to 8:30 AM.
URL:https://lordofglory.org/event/sanctuary-saturdays-12/
CATEGORIES:Prayer
ATTACH;FMTTYPE=image/jpeg:https://eadn-wc01-15328280.nxedge.io/wp-content/uploads/2024/02/saturday-morning-prayer-event-lord-of-glory-grayslake-1.jpg
END:VEVENT
BEGIN:VEVENT
DTSTART;TZID=America/Chicago:20260430T160000
DTEND;TZID=America/Chicago:20260430T190000
DTSTAMP:20260422T174346
CREATED:20260401T153606Z
LAST-MODIFIED:20260401T153607Z
UID:22834-1777564800-1777575600@lordofglory.org
SUMMARY:Gloryland Preschool Open House
DESCRIPTION:Tour our classrooms\, ask questions\, and discover how we create a warm and loving environment for your little one.
URL:https://lordofglory.org/event/gloryland-preschool-open-house/
ATTACH;FMTTYPE=image/jpeg:https://eadn-wc01-15328280.nxedge.io/wp-content/uploads/2026/04/gloryland-open-house-1.jpg
END:VEVENT
BEGIN:VEVENT
DTSTART;TZID=America/Chicago:20260429T180000
DTEND;TZID=America/Chicago:20260429T200000
DTSTAMP:20260422T174346
CREATED:20260219T173234Z
LAST-MODIFIED:20260324T173224Z
UID:20731-1777485600-1777492800@lordofglory.org
SUMMARY:New Member Dinner
DESCRIPTION:Are you new to Lord of Glory or considering becoming a member? We would love to get to know you better! \n\n\n\nJoin us for a relaxed and welcoming New Member Dinner on Wednesday\, April 29 from 6–8 PM. We’ll gather around great food from Portillo’s\, enjoy time together\, and share more about who we are as a church family. \n\n\n\nWhat to Expect:\n\n\n\n\nA delicious dinner catered from Portillo’s\n\n\n\nA chance to meet pastor\, staff\, and ministry leaders\n\n\n\nAn overview of Lord of Glory’s mission\, values\, and ministries\n\n\n\nInformation about membership and next steps\n\n\n\nTime for questions and conversation\n\n\n\n\nThis evening is designed to help you learn more about Lord of Glory\, connect with others\, and explore what it means to become a member. There’s no pressure — just great food and meaningful conversation. \n\n\n\nWe hope you’ll join us! \n\n\n\nPlease RSVP
URL:https://lordofglory.org/event/new-member-dinner/
CATEGORIES:Community
ATTACH;FMTTYPE=image/jpeg:https://eadn-wc01-15328280.nxedge.io/wp-content/uploads/2026/02/new-member-dinner-nodate.jpg
END:VEVENT
BEGIN:VEVENT
DTSTART;TZID=America/Chicago:20260426T103000
DTEND;TZID=America/Chicago:20260426T113000
DTSTAMP:20260422T174346
CREATED:20260219T164132Z
LAST-MODIFIED:20260219T164133Z
UID:20719-1777199400-1777203000@lordofglory.org
SUMMARY:Confirmation Sunday
DESCRIPTION:Join us on Sunday\, April 26 for Confirmation Sunday\, with special service times at 8:00 AM\, 9:15 AM\, and 10:30 AM. Confirmation will take place during the 10:30 AM service. \n\n\n\nConfirmation is a meaningful milestone where students publicly affirm the faith first spoken over them at baptism and claim it as their own after a season of learning and spiritual growth. \n\n\n\nCome worship with us and celebrate this important step in their faith journey!
URL:https://lordofglory.org/event/confirmation-sunday-2/
CATEGORIES:Worship Service,Youth
ATTACH;FMTTYPE=image/jpeg:https://eadn-wc01-15328280.nxedge.io/wp-content/uploads/2026/02/Confirmation-Sunday-Dove-Stained-Glass-Subtitle-1.jpg
END:VEVENT
BEGIN:VEVENT
DTSTART;TZID=America/Chicago:20260412T090000
DTEND;TZID=America/Chicago:20260412T101500
DTSTAMP:20260422T174346
CREATED:20260219T161516Z
LAST-MODIFIED:20260219T164246Z
UID:20717-1775984400-1775988900@lordofglory.org
SUMMARY:Spring Breakfast
DESCRIPTION:You’re Invited to Our Spring Breakfast!  \n\n\n\nJoin us for a wonderful morning of food and fellowship at our Spring Breakfast on Sunday\, April 12th from 9:00–10:15 AM. \n\n\n\nThis year\, we’re making room in our celebration calendar by moving our traditional Easter Breakfast to a special Spring Breakfast — and we can’t wait to gather together! \n\n\n\nCome enjoy a delicious meal\, warm conversation\, and meaningful time with our church family. It’s a perfect opportunity to connect\, invite a friend\, and celebrate the joy of the season together. \n\n\n\nThere’s a place for everyone at the table — we hope to see you there!
URL:https://lordofglory.org/event/spring-breakfast/
CATEGORIES:Family
ATTACH;FMTTYPE=image/jpeg:https://eadn-wc01-15328280.nxedge.io/wp-content/uploads/2026/02/spring-breakfast-1.jpg
END:VEVENT
BEGIN:VEVENT
DTSTART;TZID=America/Chicago:20260411T080000
DTEND;TZID=America/Chicago:20260411T100000
DTSTAMP:20260422T174346
CREATED:20250721T183938Z
LAST-MODIFIED:20260112T194415Z
UID:8312-1775894400-1775901600@lordofglory.org
SUMMARY:Men's Breakfast Bible Study
DESCRIPTION:Join other men for a hearty breakfast and Bible study on the second Saturday of each month in the church kitchen.
URL:https://lordofglory.org/event/mens-breakfast-bible-study-9/
CATEGORIES:Bible Study,Men
ATTACH;FMTTYPE=image/jpeg:https://eadn-wc01-15328280.nxedge.io/wp-content/uploads/2024/07/men-bible-study-breakfast-lord-of-glory-grayslake.jpg
END:VEVENT
BEGIN:VEVENT
DTSTART;TZID=America/Chicago:20260405T103000
DTEND;TZID=America/Chicago:20260405T113000
DTSTAMP:20260422T174346
CREATED:20260219T170936Z
LAST-MODIFIED:20260219T171124Z
UID:20726-1775385000-1775388600@lordofglory.org
SUMMARY:Easter Service
DESCRIPTION:You’re Invited to Easter at Lord of Glory! \n\n\n\nCelebrate the joy and hope of Easter with us! Join us on Easter Sunday for uplifting worship services at 7:30\, 9:00\, and 10:30 AM. Enjoy great music\, an inspiring message\, and a special Easter egg hunt for kids between services. We’d love to celebrate this meaningful day with you and your family — all are welcome!
URL:https://lordofglory.org/event/easter-sunday-2/
CATEGORIES:Worship Service
ATTACH;FMTTYPE=image/jpeg:https://eadn-wc01-15328280.nxedge.io/wp-content/uploads/2026/01/easter-paint.jpg
END:VEVENT
BEGIN:VEVENT
DTSTART;TZID=America/Chicago:20260405T090000
DTEND;TZID=America/Chicago:20260405T100000
DTSTAMP:20260422T174346
CREATED:20260219T170822Z
LAST-MODIFIED:20260219T171104Z
UID:20724-1775379600-1775383200@lordofglory.org
SUMMARY:Easter Service
DESCRIPTION:You’re Invited to Easter at Lord of Glory! \n\n\n\nCelebrate the joy and hope of Easter with us! Join us on Easter Sunday for uplifting worship services at 7:30\, 9:00\, and 10:30 AM. Enjoy great music\, an inspiring message\, and a special Easter egg hunt for kids between services. We’d love to celebrate this meaningful day with you and your family — all are welcome!
URL:https://lordofglory.org/event/easter-sunday/
CATEGORIES:Worship Service
ATTACH;FMTTYPE=image/jpeg:https://eadn-wc01-15328280.nxedge.io/wp-content/uploads/2026/01/easter-paint.jpg
END:VEVENT
BEGIN:VEVENT
DTSTART;TZID=America/Chicago:20260405T073000
DTEND;TZID=America/Chicago:20260405T113000
DTSTAMP:20260422T174346
CREATED:20260115T012725Z
LAST-MODIFIED:20260219T171045Z
UID:19787-1775374200-1775388600@lordofglory.org
SUMMARY:Easter Service
DESCRIPTION:You’re Invited to Easter at Lord of Glory!  \n\n\n\nCelebrate the joy and hope of Easter with us! Join us on Easter Sunday for uplifting worship services at 7:30\, 9:00\, and 10:30 AM. Enjoy great music\, an inspiring message\, and a special Easter egg hunt for kids between services. We’d love to celebrate this meaningful day with you and your family — all are welcome!
URL:https://lordofglory.org/event/easter/
CATEGORIES:Worship Service
ATTACH;FMTTYPE=image/jpeg:https://eadn-wc01-15328280.nxedge.io/wp-content/uploads/2026/01/easter-paint.jpg
END:VEVENT
BEGIN:VEVENT
DTSTART;TZID=America/Chicago:20260403T190000
DTEND;TZID=America/Chicago:20260403T200000
DTSTAMP:20260422T174346
CREATED:20260122T170107Z
LAST-MODIFIED:20260122T170108Z
UID:19858-1775242800-1775246400@lordofglory.org
SUMMARY:Good Friday
DESCRIPTION:You are invited to join us for a Good Friday Service on April 3 as we remember Christ’s sacrifice on the cross. Services will be held at 12:00 PM and 7:00 PM\, offering times of scripture\, reflection\, and prayer. Come and quietly reflect on the depth of God’s love shown through Jesus’ suffering and death. All are welcome.
URL:https://lordofglory.org/event/good-friday-3/
CATEGORIES:Worship Service
ATTACH;FMTTYPE=image/jpeg:https://eadn-wc01-15328280.nxedge.io/wp-content/uploads/2026/01/Good-Friday-2026.jpg
END:VEVENT
BEGIN:VEVENT
DTSTART;TZID=America/Chicago:20260403T120000
DTEND;TZID=America/Chicago:20260403T130000
DTSTAMP:20260422T174346
CREATED:20260122T170020Z
LAST-MODIFIED:20260122T170021Z
UID:19855-1775217600-1775221200@lordofglory.org
SUMMARY:Good Friday
DESCRIPTION:You are invited to join us for a Good Friday Service on April 3 as we remember Christ’s sacrifice on the cross. Services will be held at 12:00 PM and 7:00 PM\, offering times of scripture\, reflection\, and prayer. Come and quietly reflect on the depth of God’s love shown through Jesus’ suffering and death. All are welcome.
URL:https://lordofglory.org/event/good-friday-2/
CATEGORIES:Worship Service
ATTACH;FMTTYPE=image/jpeg:https://eadn-wc01-15328280.nxedge.io/wp-content/uploads/2026/01/Good-Friday-2026.jpg
END:VEVENT
BEGIN:VEVENT
DTSTART;TZID=America/Chicago:20260402T190000
DTEND;TZID=America/Chicago:20260402T200000
DTSTAMP:20260422T174346
CREATED:20260122T165834Z
LAST-MODIFIED:20260122T165834Z
UID:19852-1775156400-1775160000@lordofglory.org
SUMMARY:Maundy Thursday
DESCRIPTION:Join us for a Maundy Thursday Service on April 2 at 7pm as we remember Jesus’ last supper with His disciples. Through scripture\, prayer\, and Holy Communion\, we will reflect on Christ’s love\, humility\, and command to love one another. All are welcome to come\, worship\, and share at the Lord’s Table.
URL:https://lordofglory.org/event/maundy-thursday/
CATEGORIES:Worship Service
ATTACH;FMTTYPE=image/jpeg:https://eadn-wc01-15328280.nxedge.io/wp-content/uploads/2026/01/Maundy-Thursday-2026.jpg
END:VEVENT
BEGIN:VEVENT
DTSTART;TZID=America/Chicago:20260329T080000
DTEND;TZID=America/Chicago:20260329T113000
DTSTAMP:20260422T174346
CREATED:20260218T164644Z
LAST-MODIFIED:20260218T164645Z
UID:20509-1774771200-1774783800@lordofglory.org
SUMMARY:Palm Sunday
DESCRIPTION:Join us on Palm Sunday for a time of reflection\, music\, and connection as we gather to mark the beginning of Holy Week and explore the story of Jesus’ journey into Jerusalem. Services at 8am and 10:30am.
URL:https://lordofglory.org/event/palm-sunday-2/
CATEGORIES:Worship Service
ATTACH;FMTTYPE=image/jpeg:https://eadn-wc01-15328280.nxedge.io/wp-content/uploads/2026/02/CMG-Designer-February-17-2026-1.jpeg
END:VEVENT
BEGIN:VEVENT
DTSTART;TZID=America/Chicago:20260325T183000
DTEND;TZID=America/Chicago:20260325T190000
DTSTAMP:20260422T174346
CREATED:20260112T200743Z
LAST-MODIFIED:20260203T151737Z
UID:19763-1774463400-1774465200@lordofglory.org
SUMMARY:Midweek Lenten Service
DESCRIPTION:Our Midweek Lenten Services are a time for worship\, reflection\, and prayer as we journey through Lent together. Join us on Wednesdays at 6:30 PM for a meaningful midweek pause centered on Christ.
URL:https://lordofglory.org/event/midweek-lenten-service-5/
CATEGORIES:Worship Service
ATTACH;FMTTYPE=image/jpeg:https://eadn-wc01-15328280.nxedge.io/wp-content/uploads/2026/02/Lent.jpg
END:VEVENT
BEGIN:VEVENT
DTSTART;TZID=America/Chicago:20260325T090000
DTEND;TZID=America/Chicago:20260325T110000
DTSTAMP:20260422T174346
CREATED:20260122T170808Z
LAST-MODIFIED:20260303T213701Z
UID:19860-1774429200-1774436400@lordofglory.org
SUMMARY:Feed My Starving Children
DESCRIPTION:Join us on March 25 from 9:00–11:00 AM for our Feed My Starving Children packing event. Together\, we’ll pack life-saving meals that bring hope and nourishment to children around the world. It’s a meaningful\, hands-on way to serve and make a real impact—everyone is welcome to participate!
URL:https://lordofglory.org/event/feed-my-starving-children/
LOCATION:Feed My Starving Children\, 742 E Park Ave\, Libertyville\, IL\, Illinois\, 60048\, United States
CATEGORIES:Children,Family
ATTACH;FMTTYPE=image/jpeg:https://eadn-wc01-15328280.nxedge.io/wp-content/uploads/2026/03/20.jpg
END:VEVENT
BEGIN:VEVENT
DTSTART;TZID=America/Chicago:20260323T090000
DTEND;TZID=America/Chicago:20260327T160000
DTSTAMP:20260422T174346
CREATED:20260112T183603Z
LAST-MODIFIED:20260112T184909Z
UID:19731-1774256400-1774627200@lordofglory.org
SUMMARY:Family Open Gym
DESCRIPTION:“Looking for a fun way to stay active during school breaks? Families are invited to use our church gym during open gym hours. Please sign up for a time slot in advance.”
URL:https://lordofglory.org/event/family-open-gym-3/
CATEGORIES:Children,Community,Family
ATTACH;FMTTYPE=image/jpeg:https://eadn-wc01-15328280.nxedge.io/wp-content/uploads/2026/01/open-gym.jpg
END:VEVENT
BEGIN:VEVENT
DTSTART;TZID=America/Chicago:20260318T183000
DTEND;TZID=America/Chicago:20260318T190000
DTSTAMP:20260422T174346
CREATED:20260112T200702Z
LAST-MODIFIED:20260203T151756Z
UID:19761-1773858600-1773860400@lordofglory.org
SUMMARY:Midweek Lenten Service
DESCRIPTION:Our Midweek Lenten Services are a time for worship\, reflection\, and prayer as we journey through Lent together. Join us on Wednesdays at 6:30 PM for a meaningful midweek pause centered on Christ.
URL:https://lordofglory.org/event/midweek-lenten-service-4/
CATEGORIES:Worship Service
ATTACH;FMTTYPE=image/jpeg:https://eadn-wc01-15328280.nxedge.io/wp-content/uploads/2026/02/Lent.jpg
END:VEVENT
BEGIN:VEVENT
DTSTART;TZID=America/Chicago:20260311T183000
DTEND;TZID=America/Chicago:20260311T190000
DTSTAMP:20260422T174346
CREATED:20260112T200524Z
LAST-MODIFIED:20260203T151714Z
UID:19759-1773253800-1773255600@lordofglory.org
SUMMARY:Midweek Lenten Service
DESCRIPTION:Our Midweek Lenten Services are a time for worship\, reflection\, and prayer as we journey through Lent together. Join us on Wednesdays at 6:30 PM for a meaningful midweek pause centered on Christ.
URL:https://lordofglory.org/event/midweek-lenten-service-3/
CATEGORIES:Worship Service
ATTACH;FMTTYPE=image/jpeg:https://eadn-wc01-15328280.nxedge.io/wp-content/uploads/2026/02/Lent.jpg
END:VEVENT
BEGIN:VEVENT
DTSTART;TZID=America/Chicago:20260307T100000
DTEND;TZID=America/Chicago:20260307T110000
DTSTAMP:20260422T174346
CREATED:20260112T184232Z
LAST-MODIFIED:20260112T184920Z
UID:19737-1772877600-1772881200@lordofglory.org
SUMMARY:Parent & Tot Hour
DESCRIPTION:Parent Tot Hour is a relaxed playtime for parents and children ages 0–2 to connect\, play\, and build community in a safe\, welcoming space.
URL:https://lordofglory.org/event/parent-tot-hour-3/
CATEGORIES:Children,Family
ATTACH;FMTTYPE=image/jpeg:https://eadn-wc01-15328280.nxedge.io/wp-content/uploads/2026/01/parent-tot-hour.jpg
END:VEVENT
BEGIN:VEVENT
DTSTART;TZID=America/Chicago:20260304T183000
DTEND;TZID=America/Chicago:20260304T190000
DTSTAMP:20260422T174346
CREATED:20260112T200437Z
LAST-MODIFIED:20260203T151822Z
UID:19757-1772649000-1772650800@lordofglory.org
SUMMARY:Midweek Lenten Service
DESCRIPTION:Our Midweek Lenten Services are a time for worship\, reflection\, and prayer as we journey through Lent together. Join us on Wednesdays at 6:30 PM for a meaningful midweek pause centered on Christ.
URL:https://lordofglory.org/event/midweek-lenten-service-2/
CATEGORIES:Worship Service
ATTACH;FMTTYPE=image/jpeg:https://eadn-wc01-15328280.nxedge.io/wp-content/uploads/2026/02/Lent.jpg
END:VEVENT
BEGIN:VEVENT
DTSTART;TZID=America/Chicago:20260228T090000
DTEND;TZID=America/Chicago:20260228T170000
DTSTAMP:20260422T174346
CREATED:20251117T014320Z
LAST-MODIFIED:20260127T014938Z
UID:18383-1772269200-1772298000@lordofglory.org
SUMMARY:Women's Retreat
DESCRIPTION:Join us for a refreshing Women’s Retreat as we welcome back guest speaker Sarah Salzberg! This year’s theme\, “So Much to Chew On: Learn to Read the Bible the Way It Was Intended\,” invites us to slow down\, savor Scripture\, and rediscover the joy of meditating on God’s Word. You’ll gain practical tools for reading Scripture more deeply—and leave feeling full\, refreshed\, and eager to come back to the table again and again. \n\n\n\n\n\n\n\n\n\n📅   Register by February 15 🎟️   $50 per person (includes lunch) 📍  Lord of Glory Lutheran Church \n\n\n\n\n\n\n\n\n\n\n\nMore Information\n\n\n\nSchedule\n\n\n\n\nMORNING8:40 AM – Doors open (coffee & snacks available)9:00 AM – Worship9:15 AM – Session 1: First Course10:30 AM – Break & group photo (10:50 AM)11:00 AM – Session 2: Main Course \n\n\n\nAFTERNOON12:15 PM – Lunch1:15 PM – Fun stations (participants’ choice)3:00 PM – Session 3: Dessert4:30 PM – Worship & communion5:00 PM – Depart in peace \n\n\n\n\nSession Descriptions\n\n\n\n\nSession 1: First CourseThe first bite of food should set the stage for what to expect in the whole meal. This modest introduction is meant to be meditated on\, revisited in your mind\, and connected to everything else. A proper chef seeks to highlight what is seasonal while creating a dish that transcends this brief moment in time. Psalm 1 tells us that the Word is also meant to be chewed on\, so we will learn what it means to read Scripture as meditative literature and the themes that the opening pages prepare us for. \n\n\n\nSession 2: Main CourseThis is the dish you think of when preparing for a meal; in fact\, the whole meal was built around it. When you step back and consider all of the courses\, you realize that elements of the main course found their way into each and every other course. It would not be inappropriate to say that in the main course\, you found it most substantial and definitely needed longer to chew on. Scripture reveals the heart of Yahweh and His character\, which shapes the way we read every page. \n\n\n\nSession 3: DessertFood scientists have studied it and concluded that we should be eating dessert. Certainly\, it brings us genuine joy and cleanses our palate\, but it also helps us digest the food and tricks us into wanting more and more. A meal typically concludes on a sofa or the porch. We dine and sip more slowly\, we chat about the meal and plan for the next feast together. This is wisdom; Scripture is meant to be pondered over\, and it doesn’t tell us what to think but how to think. \n\n\n\n\nFAQs\n\n\n\n\nWill there be childcare? No\, we are unable to provide childcare for this event. \n\n\n\nWill food be provided? Yes\, we will provide coffee and snacks before morning worship\, as well as throughout the day. We will also be serving lunch. \n\n\n\nWhat if I have food allergies?  In your registration you are able to indicate any allergies or food restrictions you may have. Depending on the severity of your allergies\, you may want to consider bringing your own food because we are not sure of the risk for cross-contamination.  \n\n\n\n\nMeet Our Speaker\n\n\n\n\n\n\n\n\nWe are thrilled to welcome back Sarah Salzberg as our featured speaker. Sarah is a gifted communicator with a passion for encouraging women in their walk with Christ. Known for her ability to blend biblical truth with humor and personal insight\, Sarah creates a warm and relatable environment where attendees feel both challenged and uplifted. \n\n\n\n\n\n\n\n\n\nJoin us!
URL:https://lordofglory.org/event/womens-retreat/
CATEGORIES:Women
ATTACH;FMTTYPE=image/jpeg:https://eadn-wc01-15328280.nxedge.io/wp-content/uploads/2026/01/so-much-to-chew-on-womens-retreat-lord-of-glory-grayslake.jpg
END:VEVENT
END:VCALENDAR