BEGIN:VCALENDAR
VERSION:2.0
PRODID:-//Lord of Glory Lutheran Church - Grayslake Illinois - ECPv6.15.20//NONSGML v1.0//EN
CALSCALE:GREGORIAN
METHOD:PUBLISH
X-WR-CALNAME:Lord of Glory Lutheran Church - Grayslake Illinois
X-ORIGINAL-URL:https://lordofglory.org
X-WR-CALDESC:Events for Lord of Glory Lutheran Church - Grayslake Illinois
REFRESH-INTERVAL;VALUE=DURATION:PT1H
X-Robots-Tag:noindex
X-PUBLISHED-TTL:PT1H
BEGIN:VTIMEZONE
TZID:America/Chicago
BEGIN:DAYLIGHT
TZOFFSETFROM:-0600
TZOFFSETTO:-0500
TZNAME:CDT
DTSTART:20250309T080000
END:DAYLIGHT
BEGIN:STANDARD
TZOFFSETFROM:-0500
TZOFFSETTO:-0600
TZNAME:CST
DTSTART:20251102T070000
END:STANDARD
BEGIN:DAYLIGHT
TZOFFSETFROM:-0600
TZOFFSETTO:-0500
TZNAME:CDT
DTSTART:20260308T080000
END:DAYLIGHT
BEGIN:STANDARD
TZOFFSETFROM:-0500
TZOFFSETTO:-0600
TZNAME:CST
DTSTART:20261101T070000
END:STANDARD
BEGIN:DAYLIGHT
TZOFFSETFROM:-0600
TZOFFSETTO:-0500
TZNAME:CDT
DTSTART:20270314T080000
END:DAYLIGHT
BEGIN:STANDARD
TZOFFSETFROM:-0500
TZOFFSETTO:-0600
TZNAME:CST
DTSTART:20271107T070000
END:STANDARD
END:VTIMEZONE
BEGIN:VEVENT
DTSTART;TZID=America/Chicago:20260808T100000
DTEND;TZID=America/Chicago:20260808T110000
DTSTAMP:20260422T174126
CREATED:20260422T160547Z
LAST-MODIFIED:20260422T160623Z
UID:23765-1786183200-1786186800@lordofglory.org
SUMMARY:Parent Tot Hour
DESCRIPTION:Parent Tot Hour is a relaxed playtime for parents and children ages 0–2 to connect\, play\, and build community in a safe\, welcoming space.
URL:https://lordofglory.org/event/parent-tot-hour-5/
CATEGORIES:Children,Family
ATTACH;FMTTYPE=image/jpeg:https://eadn-wc01-15328280.nxedge.io/wp-content/uploads/2026/01/parent-tot-hour.jpg
END:VEVENT
BEGIN:VEVENT
DTSTART;TZID=America/Chicago:20260812T190000
DTEND;TZID=America/Chicago:20260812T201500
DTSTAMP:20260422T174126
CREATED:20260422T195427Z
LAST-MODIFIED:20260422T195428Z
UID:23776-1786561200-1786565700@lordofglory.org
SUMMARY:Middle School Summer Ministry
DESCRIPTION:A summer blast for middle schoolers! Each week features wacky games and a devo on how we see God every day. \n\n\n\nWednesdays @ 7–8:15 PMOutside at Lord of GloryNew to youth ministry? I’d love to meet you!
URL:https://lordofglory.org/event/middle-school-summer-ministry-3/
CATEGORIES:Youth
ATTACH;FMTTYPE=image/jpeg:https://eadn-wc01-15328280.nxedge.io/wp-content/uploads/2026/04/3.jpg
END:VEVENT
BEGIN:VEVENT
DTSTART;TZID=America/Chicago:20260816T080000
DTEND;TZID=America/Chicago:20260816T123000
DTSTAMP:20260422T174126
CREATED:20251027T154225Z
LAST-MODIFIED:20251027T154226Z
UID:17640-1786867200-1786883400@lordofglory.org
SUMMARY:Blood Drive
DESCRIPTION:You never know whose life you might save with a visit to one of the Lord of Glory Blood Drives. Versiti\, Blood Center of Illinois is the provider of blood products to 80+ hospitals in the Chicagoland area\, including our local Veterans hospitals – the hospitals that care for our loved ones. By donating blood at a Lord of Glory Blood Drive\, you will be impacting the lives of many in your community.
URL:https://lordofglory.org/event/blood-drive-3/
LOCATION:Lord of Glory Lutheran Church\, 607 W. Belvidere Road\, Grayslake\, IL\, 60030\, United States
CATEGORIES:Blood Drive
ATTACH;FMTTYPE=image/jpeg:https://eadn-wc01-15328280.nxedge.io/wp-content/uploads/2024/10/give-blood-event-lord-of-glory-grayslake.jpg
END:VEVENT
BEGIN:VEVENT
DTSTART;TZID=America/Chicago:20260823T123000
DTEND;TZID=America/Chicago:20260823T190000
DTSTAMP:20260422T174126
CREATED:20250605T150726Z
LAST-MODIFIED:20260416T151007Z
UID:3480-1787488200-1787511600@lordofglory.org
SUMMARY:Golf Outing Youth Fundraiser
DESCRIPTION:Gather your team and join us for a fun and competitive 18-hole scramble-style tournament at beautiful Bittersweet Golf Club in Gurnee\, IL — all to support the high school youth group at Lord of Glory! \n\n\n\nEvent Highlights:Sunday\, August 23Tee times start at 12:30pmHole Competitions & Prizes \n\n\n\n\n\n All proceeds go directly to funding high school youth retreats\, service opportunities\, and faith-growth experiences. \n\n\n\nCome for the golf—leave knowing you made a difference!
URL:https://lordofglory.org/event/golf-outing-youth-fundraiser-2/
CATEGORIES:Youth
ATTACH;FMTTYPE=image/jpeg:https://eadn-wc01-15328280.nxedge.io/wp-content/uploads/2025/06/youth-fundraiser-1.jpg
END:VEVENT
BEGIN:VEVENT
DTSTART;TZID=America/Chicago:20260913T090000
DTEND;TZID=America/Chicago:20260913T101500
DTSTAMP:20260422T174126
CREATED:20250818T152551Z
LAST-MODIFIED:20260416T145409Z
UID:10274-1789290000-1789294500@lordofglory.org
SUMMARY:Kickoff Sunday
DESCRIPTION:Join us for a morning packed with excitement as we kick off ministry at Lord of Glory. Festivities include a cornhole tournament\, raffles\, bouncies\, games and prizes\, and delicious treats.
URL:https://lordofglory.org/event/kickoff-sunday/
CATEGORIES:Children,Family
ATTACH;FMTTYPE=image/jpeg:https://eadn-wc01-15328280.nxedge.io/wp-content/uploads/2025/08/Kickoff_Sunday-2026.jpg
END:VEVENT
BEGIN:VEVENT
DTSTART;TZID=America/Chicago:20261018T080000
DTEND;TZID=America/Chicago:20261018T123000
DTSTAMP:20260422T174126
CREATED:20251027T154340Z
LAST-MODIFIED:20251027T154341Z
UID:17642-1792310400-1792326600@lordofglory.org
SUMMARY:Blood Drive
DESCRIPTION:You never know whose life you might save with a visit to one of the Lord of Glory Blood Drives. Versiti\, Blood Center of Illinois is the provider of blood products to 80+ hospitals in the Chicagoland area\, including our local Veterans hospitals – the hospitals that care for our loved ones. By donating blood at a Lord of Glory Blood Drive\, you will be impacting the lives of many in your community.
URL:https://lordofglory.org/event/blood-drive-8/
LOCATION:Lord of Glory Lutheran Church\, 607 W. Belvidere Road\, Grayslake\, IL\, 60030\, United States
CATEGORIES:Blood Drive
ATTACH;FMTTYPE=image/jpeg:https://eadn-wc01-15328280.nxedge.io/wp-content/uploads/2024/10/give-blood-event-lord-of-glory-grayslake.jpg
END:VEVENT
END:VCALENDAR