BEGIN:VCALENDAR
VERSION:2.0
PRODID:-//Lord of Glory Lutheran Church - Grayslake Illinois - ECPv6.15.20//NONSGML v1.0//EN
CALSCALE:GREGORIAN
METHOD:PUBLISH
X-ORIGINAL-URL:https://lordofglory.org
X-WR-CALDESC:Events for Lord of Glory Lutheran Church - Grayslake Illinois
REFRESH-INTERVAL;VALUE=DURATION:PT1H
X-Robots-Tag:noindex
X-PUBLISHED-TTL:PT1H
BEGIN:VTIMEZONE
TZID:America/Chicago
BEGIN:DAYLIGHT
TZOFFSETFROM:-0600
TZOFFSETTO:-0500
TZNAME:CDT
DTSTART:20240310T080000
END:DAYLIGHT
BEGIN:STANDARD
TZOFFSETFROM:-0500
TZOFFSETTO:-0600
TZNAME:CST
DTSTART:20241103T070000
END:STANDARD
BEGIN:DAYLIGHT
TZOFFSETFROM:-0600
TZOFFSETTO:-0500
TZNAME:CDT
DTSTART:20250309T080000
END:DAYLIGHT
BEGIN:STANDARD
TZOFFSETFROM:-0500
TZOFFSETTO:-0600
TZNAME:CST
DTSTART:20251102T070000
END:STANDARD
BEGIN:DAYLIGHT
TZOFFSETFROM:-0600
TZOFFSETTO:-0500
TZNAME:CDT
DTSTART:20260308T080000
END:DAYLIGHT
BEGIN:STANDARD
TZOFFSETFROM:-0500
TZOFFSETTO:-0600
TZNAME:CST
DTSTART:20261101T070000
END:STANDARD
END:VTIMEZONE
BEGIN:VEVENT
DTSTART;TZID=America/Chicago:20250518T080000
DTEND;TZID=America/Chicago:20250518T123000
DTSTAMP:20260422T194242
CREATED:20241028T194346Z
LAST-MODIFIED:20250410T233841Z
UID:1403-1747555200-1747571400@lordofglory.org
SUMMARY:Blood Drive
DESCRIPTION:You never know whose life you might save with a visit to one of the Lord of Glory Blood Drives. Versiti\, Blood Center of Illinois is the provider of blood products to 80+ hospitals in the Chicagoland area\, including our local Veterans hospitals – the hospitals that care for our loved ones. By donating blood at a Lord of Glory Blood Drive\, you will be impacting the lives of many in your community.
URL:https://lordofglory.org/event/blood-drive-5/
CATEGORIES:Blood Drive,Community
ATTACH;FMTTYPE=image/jpeg:https://eadn-wc01-15328280.nxedge.io/wp-content/uploads/2024/10/give-blood-event-lord-of-glory-grayslake.jpg
END:VEVENT
BEGIN:VEVENT
DTSTART;TZID=America/Chicago:20250510T080000
DTEND;TZID=America/Chicago:20250510T100000
DTSTAMP:20260422T194242
CREATED:20250216T200624Z
LAST-MODIFIED:20250410T233855Z
UID:1927-1746864000-1746871200@lordofglory.org
SUMMARY:Men’s Breakfast Bible Study
DESCRIPTION:Join other men for a hearty breakfast and Bible study on the second Saturday of each month in the church kitchen.
URL:https://lordofglory.org/event/mens-breakfast-bible-study-4/
CATEGORIES:Men
ATTACH;FMTTYPE=image/jpeg:https://eadn-wc01-15328280.nxedge.io/wp-content/uploads/2024/07/men-bible-study-breakfast-lord-of-glory-grayslake.jpg
END:VEVENT
BEGIN:VEVENT
DTSTART;TZID=America/Chicago:20250503T063000
DTEND;TZID=America/Chicago:20250503T083000
DTSTAMP:20260422T194242
CREATED:20250216T200828Z
LAST-MODIFIED:20250410T233905Z
UID:1930-1746253800-1746261000@lordofglory.org
SUMMARY:Sanctuary Saturdays
DESCRIPTION:You’re warmly welcomed to the sanctuary on the first Saturday of each month for a quiet and open time of connection with our heavenly Father. Whether you seek solace\, guidance\, or simply a moment of stillness\, this is your space. Come as you are and find a peaceful spot to pray\, journal\, be in God’s word\, or just be in His presence. The sanctuary will be open from 6:30 to 8:30 AM.
URL:https://lordofglory.org/event/sanctuary-saturdays-8/
CATEGORIES:Community,Men,Prayer,Seniors,Women
ATTACH;FMTTYPE=image/jpeg:https://eadn-wc01-15328280.nxedge.io/wp-content/uploads/2024/02/saturday-morning-prayer-event-lord-of-glory-grayslake-1.jpg
END:VEVENT
BEGIN:VEVENT
DTSTART;TZID=America/Chicago:20250501T130000
DTEND;TZID=America/Chicago:20250501T150000
DTSTAMP:20260422T194242
CREATED:20250404T022240Z
LAST-MODIFIED:20250410T233912Z
UID:2120-1746104400-1746111600@lordofglory.org
SUMMARY:Gloryland Preschool Open House
DESCRIPTION:Join Us for the Gloryland Preschool Open House! \n\n\n\nDate: Monday\, February 3Time: 1:00 PM – 3:00 PM & 5:00 PM – 7:00 PM \n\n\n\nTour our classrooms\, ask questions\, and discover how we create a warm and loving environment for your little one. \n\n\n\nWhat sets up apart:✨ State-licensed Christian preschool dedicated to fostering a community of kindness✨ Engaging curriculum designed to build a strong foundation for future success✨ Daily lessons about the love of Jesus through prayer\, music\, Bible stores and chapel talks✨ Classes for children ages 2 to 5 years. \n\n\n\nNo RSVP required—stop by during either time slot! We can’t wait to welcome you to the Gloryland family!
URL:https://lordofglory.org/event/gloryland-preschool-open-house-2/
CATEGORIES:Children,Community,Gloryland Preschool
ATTACH;FMTTYPE=image/jpeg:https://eadn-wc01-15328280.nxedge.io/wp-content/uploads/2025/04/may-open-house-gloryland-preschool.jpg
ORGANIZER;CN="Gloryland Preschool":MAILTO:preschool@lordofglory.org
END:VEVENT
BEGIN:VEVENT
DTSTART;TZID=America/Chicago:20250430T180000
DTEND;TZID=America/Chicago:20250430T203000
DTSTAMP:20260422T194242
CREATED:20250309T204411Z
LAST-MODIFIED:20250420T193442Z
UID:1994-1746036000-1746045000@lordofglory.org
SUMMARY:New Member Dinner
DESCRIPTION:For those who have been worshiping with us as guests or who have recently become members\, this is for you! Join us for dinner and new member night. We will unpack the basics of the Christian faith\, discuss what makes Lutheranism unique\, and share our vision for life and ministry here at LOG.
URL:https://lordofglory.org/event/new-member-dinner-2/
CATEGORIES:Men,Seniors,Women
ATTACH;FMTTYPE=image/jpeg:https://eadn-wc01-15328280.nxedge.io/wp-content/uploads/2024/10/new-member-dinner-lord-of-glory.jpg
END:VEVENT
BEGIN:VEVENT
DTSTART;TZID=America/Chicago:20250427T103000
DTEND;TZID=America/Chicago:20250427T113000
DTSTAMP:20260422T194242
CREATED:20250227T204620Z
LAST-MODIFIED:20250410T233933Z
UID:1967-1745749800-1745753400@lordofglory.org
SUMMARY:Confirmation Sunday
DESCRIPTION:Join us for Confirmation Sunday as we celebrate our confirmands and their commitment to faith! This special worship service begins at 10:30 AM. All are welcome to rejoice with us in this important milestone. \n\n\n\nTo accommodate this special celebration\, we are offering an additional 9:15 AM contemporary service. No communion will be offered at our 8 AM or 9:15 AM services.
URL:https://lordofglory.org/event/confirmation-sunday/
CATEGORIES:Worship Service
ATTACH;FMTTYPE=image/jpeg:https://eadn-wc01-15328280.nxedge.io/wp-content/uploads/2025/02/confirmation-sunday-events-lord-of-glory.jpg
END:VEVENT
END:VCALENDAR