BEGIN:VCALENDAR
VERSION:2.0
PRODID:-//Lord of Glory Lutheran Church - Grayslake Illinois - ECPv6.15.20//NONSGML v1.0//EN
CALSCALE:GREGORIAN
METHOD:PUBLISH
X-WR-CALNAME:Lord of Glory Lutheran Church - Grayslake Illinois
X-ORIGINAL-URL:https://lordofglory.org
X-WR-CALDESC:Events for Lord of Glory Lutheran Church - Grayslake Illinois
REFRESH-INTERVAL;VALUE=DURATION:PT1H
X-Robots-Tag:noindex
X-PUBLISHED-TTL:PT1H
BEGIN:VTIMEZONE
TZID:America/Chicago
BEGIN:DAYLIGHT
TZOFFSETFROM:-0600
TZOFFSETTO:-0500
TZNAME:CDT
DTSTART:20240310T080000
END:DAYLIGHT
BEGIN:STANDARD
TZOFFSETFROM:-0500
TZOFFSETTO:-0600
TZNAME:CST
DTSTART:20241103T070000
END:STANDARD
BEGIN:DAYLIGHT
TZOFFSETFROM:-0600
TZOFFSETTO:-0500
TZNAME:CDT
DTSTART:20250309T080000
END:DAYLIGHT
BEGIN:STANDARD
TZOFFSETFROM:-0500
TZOFFSETTO:-0600
TZNAME:CST
DTSTART:20251102T070000
END:STANDARD
BEGIN:DAYLIGHT
TZOFFSETFROM:-0600
TZOFFSETTO:-0500
TZNAME:CDT
DTSTART:20260308T080000
END:DAYLIGHT
BEGIN:STANDARD
TZOFFSETFROM:-0500
TZOFFSETTO:-0600
TZNAME:CST
DTSTART:20261101T070000
END:STANDARD
END:VTIMEZONE
BEGIN:VEVENT
DTSTART;TZID=America/Chicago:20250606T080000
DTEND;TZID=America/Chicago:20250606T170000
DTSTAMP:20260423T023102
CREATED:20250314T042341Z
LAST-MODIFIED:20250411T154128Z
UID:2006-1749196800-1749229200@lordofglory.org
SUMMARY:Rummage Sale
DESCRIPTION:Discover incredible deals on furniture\, clothing\, housewares\, kitchen items\, sporting equipment\, baby clothes\, shoes\, jewelry\, and so much more!  \n\n\n\n📅  Friday\, June 6 | 8 AM–5 PM📅  Saturday\, June 7 | 8 AM–12 PM\n\n\n\nEvery purchase supports Lord of Glory’s Youth Ministry\, so shop generously and make a difference! See you there!
URL:https://lordofglory.org/event/rummage-sale/
CATEGORIES:Community,Youth
ATTACH;FMTTYPE=image/jpeg:https://eadn-wc01-15328280.nxedge.io/wp-content/uploads/2025/03/rummage-sale-2025-event-lord-of-glory-grayslake.jpg
END:VEVENT
BEGIN:VEVENT
DTSTART;TZID=America/Chicago:20250607T063000
DTEND;TZID=America/Chicago:20250607T083000
DTSTAMP:20260423T023102
CREATED:20250331T192820Z
LAST-MODIFIED:20250410T233807Z
UID:2108-1749277800-1749285000@lordofglory.org
SUMMARY:Sanctuary Saturdays
DESCRIPTION:You’re warmly welcomed to the sanctuary on the first Saturday of each month for a quiet and open time of connection with our heavenly Father. Whether you seek solace\, guidance\, or simply a moment of stillness\, this is your space. Come as you are and find a peaceful spot to pray\, journal\, be in God’s word\, or just be in His presence. The sanctuary will be open from 6:30 to 8:30 AM.
URL:https://lordofglory.org/event/sanctuary-saturdays-9/
CATEGORIES:Community,Men,Prayer,Seniors,Women
ATTACH;FMTTYPE=image/jpeg:https://eadn-wc01-15328280.nxedge.io/wp-content/uploads/2024/02/saturday-morning-prayer-event-lord-of-glory-grayslake-1.jpg
END:VEVENT
BEGIN:VEVENT
DTSTART;TZID=America/Chicago:20250607T080000
DTEND;TZID=America/Chicago:20250607T120000
DTSTAMP:20260423T023102
CREATED:20250314T042432Z
LAST-MODIFIED:20250411T154150Z
UID:2009-1749283200-1749297600@lordofglory.org
SUMMARY:Rummage Sale
DESCRIPTION:Discover incredible deals on furniture\, clothing\, housewares\, kitchen items\, sporting equipment\, baby clothes\, shoes\, jewelry\, and so much more!  \n\n\n\n📅  Friday\, June 6 | 8 AM–5 PM📅  Saturday\, June 7 | 8 AM–12 PM\n\n\n\nEvery purchase supports Lord of Glory’s Youth Ministry\, so shop generously and make a difference! See you there!
URL:https://lordofglory.org/event/rummage-sale-2/
CATEGORIES:Community,Youth
ATTACH;FMTTYPE=image/jpeg:https://eadn-wc01-15328280.nxedge.io/wp-content/uploads/2025/03/rummage-sale-2025-event-lord-of-glory-grayslake.jpg
END:VEVENT
BEGIN:VEVENT
DTSTART;TZID=America/Chicago:20250614T080000
DTEND;TZID=America/Chicago:20250614T100000
DTSTAMP:20260423T023102
CREATED:20250410T234532Z
LAST-MODIFIED:20250605T153457Z
UID:2190-1749888000-1749895200@lordofglory.org
SUMMARY:Men's Breakfast Bible Study
DESCRIPTION:Join other men for a hearty breakfast and Bible study on the second Saturday of each month in the church kitchen.
URL:https://lordofglory.org/event/mens-breakfast-bible-study-5/
CATEGORIES:Bible Study,Men
ATTACH;FMTTYPE=image/jpeg:https://eadn-wc01-15328280.nxedge.io/wp-content/uploads/2024/07/men-bible-study-breakfast-lord-of-glory-grayslake.jpg
END:VEVENT
BEGIN:VEVENT
DTSTART;TZID=America/Chicago:20250616T090000
DTEND;TZID=America/Chicago:20250616T120000
DTSTAMP:20260423T023102
CREATED:20250107T171737Z
LAST-MODIFIED:20250410T233743Z
UID:1738-1750064400-1750075200@lordofglory.org
SUMMARY:True North VBS
DESCRIPTION:Find your way in a world gone wild at True North!Dates: June 16–20Time: 9:00 AM–12:00 PMAges: 3 years (as of 9.1.24) through 5th GradeIt’s hard to find your way in a world gone wild. But we have Jesus—our true north! At Lord of Glory’s vacation Bible school\, kids will foster a deeper connection with our faithful friend\, Jesus\, while discovering the great Alaskan frontier. As kids trek through the tundra of Alaska and experience what it means to trust in Jesus\, prepare for amazing faith connections to unfold!
URL:https://lordofglory.org/event/true-north-vbs/
CATEGORIES:Children
ATTACH;FMTTYPE=image/jpeg:https://eadn-wc01-15328280.nxedge.io/wp-content/uploads/2025/02/true-north-event-lord-of-glory.jpg
END:VEVENT
BEGIN:VEVENT
DTSTART;TZID=America/Chicago:20250617T090000
DTEND;TZID=America/Chicago:20250617T120000
DTSTAMP:20260423T023102
CREATED:20250107T174624Z
LAST-MODIFIED:20250410T233737Z
UID:1742-1750150800-1750161600@lordofglory.org
SUMMARY:True North VBS
DESCRIPTION:Find your way in a world gone wild at True North!Dates: June 16–20Time: 9:00 AM–12:00 PMAges: 3 years (as of 9.1.24) through 5th GradeIt’s hard to find your way in a world gone wild. But we have Jesus—our true north! At Lord of Glory’s vacation Bible school\, kids will foster a deeper connection with our faithful friend\, Jesus\, while discovering the great Alaskan frontier. As kids trek through the tundra of Alaska and experience what it means to trust in Jesus\, prepare for amazing faith connections to unfold!
URL:https://lordofglory.org/event/true-north-vbs-2/
CATEGORIES:Children
ATTACH;FMTTYPE=image/jpeg:https://eadn-wc01-15328280.nxedge.io/wp-content/uploads/2025/02/true-north-event-lord-of-glory.jpg
END:VEVENT
BEGIN:VEVENT
DTSTART;TZID=America/Chicago:20250618T090000
DTEND;TZID=America/Chicago:20250618T120000
DTSTAMP:20260423T023102
CREATED:20250107T174823Z
LAST-MODIFIED:20250410T233731Z
UID:1744-1750237200-1750248000@lordofglory.org
SUMMARY:True North VBS
DESCRIPTION:Find your way in a world gone wild at True North! \n\n\n\nDates: June 16–20Time: 9:00 AM–12:00 PMAges: 3 years (as of 9.1.24) through 5th Grade \n\n\n\nIt’s hard to find your way in a world gone wild. But we have Jesus—our true north! At Lord of Glory’s vacation Bible school\, kids will foster a deeper connection with our faithful friend\, Jesus\, while discovering the great Alaskan frontier. As kids trek through the tundra of Alaska and experience what it means to trust in Jesus\, prepare for amazing faith connections to unfold!
URL:https://lordofglory.org/event/true-north-vbs-3/
CATEGORIES:Children
ATTACH;FMTTYPE=image/jpeg:https://eadn-wc01-15328280.nxedge.io/wp-content/uploads/2025/02/true-north-event-lord-of-glory.jpg
END:VEVENT
BEGIN:VEVENT
DTSTART;TZID=America/Chicago:20250619T090000
DTEND;TZID=America/Chicago:20250619T120000
DTSTAMP:20260423T023102
CREATED:20250107T174942Z
LAST-MODIFIED:20250410T233726Z
UID:1746-1750323600-1750334400@lordofglory.org
SUMMARY:True North VBS
DESCRIPTION:Find your way in a world gone wild at True North! \n\n\n\nDates: June 16–20Time: 9:00 AM–12:00 PMAges: 3 years (as of 9.1.24) through 5th Grade \n\n\n\nIt’s hard to find your way in a world gone wild. But we have Jesus—our true north! At Lord of Glory’s vacation Bible school\, kids will foster a deeper connection with our faithful friend\, Jesus\, while discovering the great Alaskan frontier. As kids trek through the tundra of Alaska and experience what it means to trust in Jesus\, prepare for amazing faith connections to unfold!
URL:https://lordofglory.org/event/true-north-vbs-4/
CATEGORIES:Children
ATTACH;FMTTYPE=image/jpeg:https://eadn-wc01-15328280.nxedge.io/wp-content/uploads/2025/02/true-north-event-lord-of-glory.jpg
END:VEVENT
BEGIN:VEVENT
DTSTART;TZID=America/Chicago:20250620T090000
DTEND;TZID=America/Chicago:20250620T120000
DTSTAMP:20260423T023102
CREATED:20250107T175115Z
LAST-MODIFIED:20250330T235442Z
UID:1748-1750410000-1750420800@lordofglory.org
SUMMARY:True North VBS
DESCRIPTION:Find your way in a world gone wild at True North! \n\n\n\nDates: June 16–20Time: 9:00 AM–12:00 PMAges: 3 years (as of 9.1.24) through 5th Grade \n\n\n\nIt’s hard to find your way in a world gone wild. But we have Jesus—our true north! At Lord of Glory’s vacation Bible school\, kids will foster a deeper connection with our faithful friend\, Jesus\, while discovering the great Alaskan frontier. As kids trek through the tundra of Alaska and experience what it means to trust in Jesus\, prepare for amazing faith connections to unfold!
URL:https://lordofglory.org/event/true-north-vbs-5/
CATEGORIES:Children
ATTACH;FMTTYPE=image/jpeg:https://eadn-wc01-15328280.nxedge.io/wp-content/uploads/2025/02/true-north-event-lord-of-glory.jpg
END:VEVENT
BEGIN:VEVENT
DTSTART;TZID=America/Chicago:20250625T190000
DTEND;TZID=America/Chicago:20250625T201500
DTSTAMP:20260423T023102
CREATED:20250605T152441Z
LAST-MODIFIED:20250605T153437Z
UID:3487-1750878000-1750882500@lordofglory.org
SUMMARY:Wacky Wednesdays
DESCRIPTION:A summer blast for middle schoolers! Each week features a wacky game and a devo on how we see God through the Fruits of the Spirit—led by our awesome intern\, Emily. Friends are welcome!
URL:https://lordofglory.org/event/wacky-wednesdays/
CATEGORIES:Youth
ATTACH;FMTTYPE=image/jpeg:https://eadn-wc01-15328280.nxedge.io/wp-content/uploads/2025/06/wacky-wednesdays.jpg
END:VEVENT
BEGIN:VEVENT
DTSTART;TZID=America/Chicago:20250629T183000
DTEND;TZID=America/Chicago:20250629T200000
DTSTAMP:20260423T023102
CREATED:20250605T162232Z
LAST-MODIFIED:20250605T162359Z
UID:3498-1751221800-1751227200@lordofglory.org
SUMMARY:High School Summer Fun Days
DESCRIPTION:Get ready for a day packed with sunshine\, laughter\, and unforgettable memories! Our Summer Fun Day is the ultimate way for high schoolers to kick back\, hang out\, and celebrate the season together.
URL:https://lordofglory.org/event/high-school-summer-fun-days/
CATEGORIES:Youth
ATTACH;FMTTYPE=image/jpeg:https://eadn-wc01-15328280.nxedge.io/wp-content/uploads/2025/06/High-School-Youth-Ministryjpg.jpg
END:VEVENT
END:VCALENDAR