BEGIN:VCALENDAR
VERSION:2.0
PRODID:-//Lord of Glory Lutheran Church - Grayslake Illinois - ECPv6.15.20//NONSGML v1.0//EN
CALSCALE:GREGORIAN
METHOD:PUBLISH
X-ORIGINAL-URL:https://lordofglory.org
X-WR-CALDESC:Events for Lord of Glory Lutheran Church - Grayslake Illinois
REFRESH-INTERVAL;VALUE=DURATION:PT1H
X-Robots-Tag:noindex
X-PUBLISHED-TTL:PT1H
BEGIN:VTIMEZONE
TZID:America/Chicago
BEGIN:DAYLIGHT
TZOFFSETFROM:-0600
TZOFFSETTO:-0500
TZNAME:CDT
DTSTART:20240310T080000
END:DAYLIGHT
BEGIN:STANDARD
TZOFFSETFROM:-0500
TZOFFSETTO:-0600
TZNAME:CST
DTSTART:20241103T070000
END:STANDARD
BEGIN:DAYLIGHT
TZOFFSETFROM:-0600
TZOFFSETTO:-0500
TZNAME:CDT
DTSTART:20250309T080000
END:DAYLIGHT
BEGIN:STANDARD
TZOFFSETFROM:-0500
TZOFFSETTO:-0600
TZNAME:CST
DTSTART:20251102T070000
END:STANDARD
BEGIN:DAYLIGHT
TZOFFSETFROM:-0600
TZOFFSETTO:-0500
TZNAME:CDT
DTSTART:20260308T080000
END:DAYLIGHT
BEGIN:STANDARD
TZOFFSETFROM:-0500
TZOFFSETTO:-0600
TZNAME:CST
DTSTART:20261101T070000
END:STANDARD
END:VTIMEZONE
BEGIN:VEVENT
DTSTART;TZID=America/Chicago:20251117T180000
DTEND;TZID=America/Chicago:20251124T200000
DTSTAMP:20260422T180524
CREATED:20251029T194906Z
LAST-MODIFIED:20251029T194932Z
UID:17684-1763402400-1764014400@lordofglory.org
SUMMARY:Operation Christmas Child Collection Week
DESCRIPTION:OCC Shoebox National Collection Week is November 17-24. We are a drop-off location and are in need of volunteers in 2 hour time slots to help fill the cartons with 15-16 shoe boxes in each carton. Each carton will weigh about 40-50 pounds. We especially need people on Monday\, November 24 to help load the heavy cartons into the truck.
URL:https://lordofglory.org/event/operation-christmas-child-collection-week/
CATEGORIES:Community,Family,Men
END:VEVENT
BEGIN:VEVENT
DTSTART;TZID=America/Chicago:20251119T180000
DTEND;TZID=America/Chicago:20251119T200000
DTSTAMP:20260422T180524
CREATED:20251006T175515Z
LAST-MODIFIED:20251026T000124Z
UID:15290-1763575200-1763582400@lordofglory.org
SUMMARY:New Members Dinner
DESCRIPTION:We’re so excited to welcome you to our church family! Whether you’ve recently started attending or are considering making our church your home\, we’d love to get to know you better at our New Member Dinner. \n\n\n\nJoin us for an evening of great food\, friendly faces\, and heartfelt fellowship. This is a wonderful opportunity to meet our pastor\, ministry leaders\, and other new members in a relaxed\, family-style setting. You’ll hear a bit about who we are\, what we believe\, and how you can get connected and grow in your faith here.
URL:https://lordofglory.org/event/new-members-dinner/
END:VEVENT
BEGIN:VEVENT
DTSTART;TZID=America/Chicago:20251122T090000
DTEND;TZID=America/Chicago:20251122T120000
DTSTAMP:20260422T180524
CREATED:20251029T195323Z
LAST-MODIFIED:20251029T195324Z
UID:17686-1763802000-1763812800@lordofglory.org
SUMMARY:Holiday Meal Distribution
DESCRIPTION:Our food pantry is excited to host our annual Holiday Meal Distribution on Saturday\, November 22\, and we would love for you to be part of it! This special event ensures that families in our community are able to enjoy a warm\, nourishing holiday meal with dignity and care.  \n\n\n\nWe are looking for volunteers to help prepare meal packages\, greet families\, offer support with distribution\, and share a spirit of kindness throughout the day. Whether you enjoy organizing behind the scenes or serving guests face-to-face\, your time and compassion will make a meaningful difference.
URL:https://lordofglory.org/event/holiday-meal-distribution/
CATEGORIES:Food Pantry
END:VEVENT
BEGIN:VEVENT
DTSTART;TZID=America/Chicago:20251123T180000
DTEND;TZID=America/Chicago:20251123T200000
DTSTAMP:20260422T180524
CREATED:20251029T194551Z
LAST-MODIFIED:20251029T194551Z
UID:17682-1763920800-1763928000@lordofglory.org
SUMMARY:HS Youth Friendsgiving
DESCRIPTION:You’re invited to our High School Youth Group Friendsgiving!All Highschool students are invited to come hang out with us for a cozy night of food\, games\, laughter\, and gratitude as we celebrate friendship and all that God has blessed us with this year. Bring a friend\, bring your appetite\, and come ready for fun!We can’t wait to share this special night with you!
URL:https://lordofglory.org/event/hs-youth-friendsgiving/
CATEGORIES:Youth
END:VEVENT
BEGIN:VEVENT
DTSTART;TZID=America/Chicago:20251126T190000
DTEND;TZID=America/Chicago:20251126T200000
DTSTAMP:20260422T180524
CREATED:20251006T175712Z
LAST-MODIFIED:20251006T175713Z
UID:15294-1764183600-1764187200@lordofglory.org
SUMMARY:Thanksgiving Eve Worship
DESCRIPTION:A Time to Gather\, Give Thanks\, and Praise the Lord \n\n\n\nAs we prepare to celebrate Thanksgiving\, let’s pause together to reflect on God’s goodness and grace. Join us for a special Thanksgiving Eve Worship Service — a time of heartfelt gratitude\, worship\, and community. \n\n\n\nCome and lift your voice in praise\, hear an encouraging message of thankfulness\, and share in the joy of fellowship with our church family. This service is a beautiful way to center our hearts before the busyness of the holiday season and to remember that every blessing comes from our gracious God.
URL:https://lordofglory.org/event/thanksgiving-eve-worship-2/
CATEGORIES:Worship Service
END:VEVENT
END:VCALENDAR