BEGIN:VCALENDAR
VERSION:2.0
PRODID:-//Lord of Glory Lutheran Church - Grayslake Illinois - ECPv6.15.20//NONSGML v1.0//EN
CALSCALE:GREGORIAN
METHOD:PUBLISH
X-WR-CALNAME:Lord of Glory Lutheran Church - Grayslake Illinois
X-ORIGINAL-URL:https://lordofglory.org
X-WR-CALDESC:Events for Lord of Glory Lutheran Church - Grayslake Illinois
REFRESH-INTERVAL;VALUE=DURATION:PT1H
X-Robots-Tag:noindex
X-PUBLISHED-TTL:PT1H
BEGIN:VTIMEZONE
TZID:America/Chicago
BEGIN:DAYLIGHT
TZOFFSETFROM:-0600
TZOFFSETTO:-0500
TZNAME:CDT
DTSTART:20240310T080000
END:DAYLIGHT
BEGIN:STANDARD
TZOFFSETFROM:-0500
TZOFFSETTO:-0600
TZNAME:CST
DTSTART:20241103T070000
END:STANDARD
BEGIN:DAYLIGHT
TZOFFSETFROM:-0600
TZOFFSETTO:-0500
TZNAME:CDT
DTSTART:20250309T080000
END:DAYLIGHT
BEGIN:STANDARD
TZOFFSETFROM:-0500
TZOFFSETTO:-0600
TZNAME:CST
DTSTART:20251102T070000
END:STANDARD
BEGIN:DAYLIGHT
TZOFFSETFROM:-0600
TZOFFSETTO:-0500
TZNAME:CDT
DTSTART:20260308T080000
END:DAYLIGHT
BEGIN:STANDARD
TZOFFSETFROM:-0500
TZOFFSETTO:-0600
TZNAME:CST
DTSTART:20261101T070000
END:STANDARD
END:VTIMEZONE
BEGIN:VEVENT
DTSTART;TZID=America/Chicago:20251203T183000
DTEND;TZID=America/Chicago:20251203T190000
DTSTAMP:20260422T162533
CREATED:20251028T145706Z
LAST-MODIFIED:20251028T145707Z
UID:17658-1764786600-1764788400@lordofglory.org
SUMMARY:Candlelight Advent Service
DESCRIPTION:Step away from the rush of the season and enter a quiet space of stillness\, scripture\, and song. Our midweek candlelight Advent services offer a peaceful pause in the middle of the week—an opportunity to reflect\, pray\, and prepare our hearts for the coming of Christ. Surrounded by soft candlelight and the hope-filled promises of Advent\, we gather to wait with expectation\, remember God’s faithfulness\, and rest in the nearness of Emmanuel: God with us.
URL:https://lordofglory.org/event/candlelight-advent-service/
CATEGORIES:Worship Service
END:VEVENT
BEGIN:VEVENT
DTSTART;TZID=America/Chicago:20251206T160000
DTEND;TZID=America/Chicago:20251206T190000
DTSTAMP:20260422T162533
CREATED:20251022T154516Z
LAST-MODIFIED:20251104T200339Z
UID:16157-1765036800-1765047600@lordofglory.org
SUMMARY:Merry & Bright Christmas Party
DESCRIPTION:Join us for a joyful evening as our church family gathers to celebrate the Christmas season together! Our Merry & Bright Christmas Party will be filled with warm fellowship\, delicious food\, and festive drinks to help us slow down\, connect\, and rejoice in the true light of Christmas.  \n\n\n\nAdults (21+) are invited to our annual Christmas Party here in the church lobby. Bring your favorite appetizer\, dessert\, and/or festive beverage to share. As this is an adults-only party\, alcohol is permitted. \n\n\n\n\nSign up
URL:https://lordofglory.org/event/merry-bright-christmas-party-2/
CATEGORIES:Community,Men,Seniors,Women
END:VEVENT
BEGIN:VEVENT
DTSTART;TZID=America/Chicago:20251209T120000
DTEND;TZID=America/Chicago:20251209T140000
DTSTAMP:20260422T162533
CREATED:20251022T184314Z
LAST-MODIFIED:20251104T200441Z
UID:16176-1765281600-1765288800@lordofglory.org
SUMMARY:Seasoned Seniors Christmas Lunch
DESCRIPTION:Join us for a heart-warming afternoon of friendship\, holiday cheer\, and delicious food at our Seasoned Seniors Christmas Lunch! This special gathering is a chance to come together and celebrate the joy of the season surrounded by familiar faces\, warm smiles\, and the spirit of community.
URL:https://lordofglory.org/event/seasoned-seniors-christmas-lunch/
CATEGORIES:Seniors
END:VEVENT
BEGIN:VEVENT
DTSTART;TZID=America/Chicago:20251210T183000
DTEND;TZID=America/Chicago:20251210T190000
DTSTAMP:20260422T162533
CREATED:20251028T145814Z
LAST-MODIFIED:20251028T145815Z
UID:17661-1765391400-1765393200@lordofglory.org
SUMMARY:Candlelight Advent Service
DESCRIPTION:Step away from the rush of the season and enter a quiet space of stillness\, scripture\, and song. Our midweek candlelight Advent services offer a peaceful pause in the middle of the week—an opportunity to reflect\, pray\, and prepare our hearts for the coming of Christ. Surrounded by soft candlelight and the hope-filled promises of Advent\, we gather to wait with expectation\, remember God’s faithfulness\, and rest in the nearness of Emmanuel: God with us.
URL:https://lordofglory.org/event/candlelight-advent-service-2/
CATEGORIES:Worship Service
END:VEVENT
BEGIN:VEVENT
DTSTART;TZID=America/Chicago:20251214T103000
DTEND;TZID=America/Chicago:20251214T113000
DTSTAMP:20260422T162533
CREATED:20251022T190806Z
LAST-MODIFIED:20251022T190834Z
UID:16182-1765708200-1765711800@lordofglory.org
SUMMARY:Christmas Pageant
DESCRIPTION:The Children’s Christmas Pageant is a joyful celebration of the birth of Jesus\, told through Scripture\, song\, and drama presented by the children of our congregation.  Families\, friends\, and neighbors are invited to gather as our children remind us of the true meaning of Christmas — hope\, love\, and the gift of Christ.
URL:https://lordofglory.org/event/christmas-pageant/
CATEGORIES:Children,Family
END:VEVENT
BEGIN:VEVENT
DTSTART;TZID=America/Chicago:20251217T183000
DTEND;TZID=America/Chicago:20251217T190000
DTSTAMP:20260422T162533
CREATED:20251028T145914Z
LAST-MODIFIED:20251028T145915Z
UID:17663-1765996200-1765998000@lordofglory.org
SUMMARY:Candlelight Advent Service
DESCRIPTION:Step away from the rush of the season and enter a quiet space of stillness\, scripture\, and song. Our midweek candlelight Advent services offer a peaceful pause in the middle of the week—an opportunity to reflect\, pray\, and prepare our hearts for the coming of Christ. Surrounded by soft candlelight and the hope-filled promises of Advent\, we gather to wait with expectation\, remember God’s faithfulness\, and rest in the nearness of Emmanuel: God with us.
URL:https://lordofglory.org/event/candlelight-advent-service-3/
CATEGORIES:Worship Service
END:VEVENT
BEGIN:VEVENT
DTSTART;TZID=America/Chicago:20251221T080000
DTEND;TZID=America/Chicago:20251221T120000
DTSTAMP:20260422T162533
CREATED:20251028T153628Z
LAST-MODIFIED:20251028T153629Z
UID:17665-1766304000-1766318400@lordofglory.org
SUMMARY:Christmas Sweater Sunday
DESCRIPTION:We’d love to have you join us for Christmas Sweater Sunday\, a morning filled with warmth\, laughter\, and togetherness. Wear a sweater that reflects the joy of the season — sentimental\, silly\, or sweet — and celebrate the gift of community as we gather to worship and make memories as a church family.
URL:https://lordofglory.org/event/christmas-sweater-sunday-2/
CATEGORIES:Worship Service
END:VEVENT
BEGIN:VEVENT
DTSTART;TZID=America/Chicago:20251221T090000
DTEND;TZID=America/Chicago:20251221T101500
DTSTAMP:20260422T162533
CREATED:20251216T203358Z
LAST-MODIFIED:20251216T203359Z
UID:19308-1766307600-1766312100@lordofglory.org
SUMMARY:Christmas Breakfast
DESCRIPTION:Come and celebrate the joy of the season with a warm and welcoming Christmas Breakfast at our church! Enjoy a delicious meal\, fellowship\, and the spirit of togetherness as we gather to reflect on the hope and love that Christmas brings. All are invited to share in this special time of connection and community.
URL:https://lordofglory.org/event/christmas-breakfast-2/
CATEGORIES:Community,Family
END:VEVENT
BEGIN:VEVENT
DTSTART;TZID=America/Chicago:20251221T093000
DTEND;TZID=America/Chicago:20251221T101500
DTSTAMP:20260422T162533
CREATED:20251216T203955Z
LAST-MODIFIED:20251216T203956Z
UID:19310-1766309400-1766312100@lordofglory.org
SUMMARY:Happy Birthday Jesus Party
DESCRIPTION:Celebrate the greatest birthday ever at our Happy Birthday\, Jesus! party—a fun-filled\, VBS-style event just for kids! Children will enjoy an exciting time of games\, music\, crafts\, Bible stories\, and yummy treats as we celebrate the true meaning of Christmas. Through age-appropriate activities and joyful worship\, kids will learn about Jesus’ birth and God’s amazing love for them—all in a safe\, welcoming\, and festive environment. It’s a birthday party with a purpose\, and everyone’s invited to help us celebrate Jesus!
URL:https://lordofglory.org/event/happy-birthday-jesus-party/
CATEGORIES:Children
END:VEVENT
BEGIN:VEVENT
DTSTART;TZID=America/Chicago:20251224T130000
DTEND;TZID=America/Chicago:20251224T230000
DTSTAMP:20260422T162533
CREATED:20251027T030757Z
LAST-MODIFIED:20251027T031303Z
UID:17621-1766581200-1766617200@lordofglory.org
SUMMARY:Christmas Eve Services
DESCRIPTION:This Christmas\, join us at Lord of Glory Lutheran Church in Grayslake\, IL\, as we celebrate the birth of our Savior. Come as you are—whether celebrating with family and friends or seeking a meaningful way to experience the season. We offer multiple service times for you to attend in person or watch online. We look forward to sharing the joy of Christmas together! \n\n\n\n Christmas Eve Service Times\n\n\n\n1 PM – Traditional3 PM – Contemporary5 PM – Contemporary10 PM – Traditional
URL:https://lordofglory.org/event/christmas-eve-services-2/
CATEGORIES:Worship Service
END:VEVENT
END:VCALENDAR