BEGIN:VCALENDAR
VERSION:2.0
PRODID:-//Lord of Glory Lutheran Church - Grayslake Illinois - ECPv6.15.20//NONSGML v1.0//EN
CALSCALE:GREGORIAN
METHOD:PUBLISH
X-ORIGINAL-URL:https://lordofglory.org
X-WR-CALDESC:Events for Lord of Glory Lutheran Church - Grayslake Illinois
REFRESH-INTERVAL;VALUE=DURATION:PT1H
X-Robots-Tag:noindex
X-PUBLISHED-TTL:PT1H
BEGIN:VTIMEZONE
TZID:America/Chicago
BEGIN:DAYLIGHT
TZOFFSETFROM:-0600
TZOFFSETTO:-0500
TZNAME:CDT
DTSTART:20250309T080000
END:DAYLIGHT
BEGIN:STANDARD
TZOFFSETFROM:-0500
TZOFFSETTO:-0600
TZNAME:CST
DTSTART:20251102T070000
END:STANDARD
BEGIN:DAYLIGHT
TZOFFSETFROM:-0600
TZOFFSETTO:-0500
TZNAME:CDT
DTSTART:20260308T080000
END:DAYLIGHT
BEGIN:STANDARD
TZOFFSETFROM:-0500
TZOFFSETTO:-0600
TZNAME:CST
DTSTART:20261101T070000
END:STANDARD
BEGIN:DAYLIGHT
TZOFFSETFROM:-0600
TZOFFSETTO:-0500
TZNAME:CDT
DTSTART:20270314T080000
END:DAYLIGHT
BEGIN:STANDARD
TZOFFSETFROM:-0500
TZOFFSETTO:-0600
TZNAME:CST
DTSTART:20271107T070000
END:STANDARD
END:VTIMEZONE
BEGIN:VEVENT
DTSTART;TZID=America/Chicago:20260118T091500
DTEND;TZID=America/Chicago:20260118T100000
DTSTAMP:20260422T143943
CREATED:20260112T182826Z
LAST-MODIFIED:20260112T182827Z
UID:19720-1768727700-1768730400@lordofglory.org
SUMMARY:Congregational Meeting
DESCRIPTION:Join us for our congregational meeting as we review ministry updates\, discuss upcoming plans\, and share in fellowship as a church family. All members are encouraged to attend.
URL:https://lordofglory.org/event/congregational-meeting/
CATEGORIES:Community,Family
ATTACH;FMTTYPE=image/jpeg:https://eadn-wc01-15328280.nxedge.io/wp-content/uploads/2026/01/congregational-meeting.jpg
END:VEVENT
BEGIN:VEVENT
DTSTART;TZID=America/Chicago:20260119T090000
DTEND;TZID=America/Chicago:20260119T160000
DTSTAMP:20260422T143943
CREATED:20260112T183224Z
LAST-MODIFIED:20260112T184946Z
UID:19727-1768813200-1768838400@lordofglory.org
SUMMARY:Family Open Gym
DESCRIPTION:“Looking for a fun way to stay active during school breaks? Families are invited to use our church gym during open gym hours. Please sign up for a time slot in advance.”
URL:https://lordofglory.org/event/family-open-gym/
CATEGORIES:Children,Community,Family
ATTACH;FMTTYPE=image/jpeg:https://eadn-wc01-15328280.nxedge.io/wp-content/uploads/2026/01/open-gym.jpg
END:VEVENT
BEGIN:VEVENT
DTSTART;TZID=America/Chicago:20260125T080000
DTEND;TZID=America/Chicago:20260125T123000
DTSTAMP:20260422T143943
CREATED:20251027T153947Z
LAST-MODIFIED:20251027T153948Z
UID:17636-1769328000-1769344200@lordofglory.org
SUMMARY:Blood Drive
DESCRIPTION:You never know whose life you might save with a visit to one of the Lord of Glory Blood Drives. Versiti\, Blood Center of Illinois is the provider of blood products to 80+ hospitals in the Chicagoland area\, including our local Veterans hospitals – the hospitals that care for our loved ones. By donating blood at a Lord of Glory Blood Drive\, you will be impacting the lives of many in your community.
URL:https://lordofglory.org/event/blood-drive/
LOCATION:Lord of Glory Lutheran Church\, 607 W. Belvidere Road\, Grayslake\, IL\, 60030\, United States
CATEGORIES:Blood Drive
ATTACH;FMTTYPE=image/jpeg:https://eadn-wc01-15328280.nxedge.io/wp-content/uploads/2024/10/give-blood-event-lord-of-glory-grayslake.jpg
END:VEVENT
BEGIN:VEVENT
DTSTART;TZID=America/Chicago:20260131T100000
DTEND;TZID=America/Chicago:20260131T110000
DTSTAMP:20260422T143943
CREATED:20260112T184020Z
LAST-MODIFIED:20260122T230354Z
UID:19733-1769853600-1769857200@lordofglory.org
SUMMARY:Parent & Tot Hour
DESCRIPTION:Parent Tot Hour is a relaxed playtime for parents and children ages 0–2 to connect\, play\, and build community in a safe\, welcoming space.
URL:https://lordofglory.org/event/parent-tot-hour/
CATEGORIES:Children,Family
ATTACH;FMTTYPE=image/jpeg:https://eadn-wc01-15328280.nxedge.io/wp-content/uploads/2026/01/parent-tot-hour.jpg
END:VEVENT
END:VCALENDAR