BEGIN:VCALENDAR
VERSION:2.0
PRODID:-//Lord of Glory Lutheran Church - Grayslake Illinois - ECPv6.15.20//NONSGML v1.0//EN
CALSCALE:GREGORIAN
METHOD:PUBLISH
X-ORIGINAL-URL:https://lordofglory.org
X-WR-CALDESC:Events for Lord of Glory Lutheran Church - Grayslake Illinois
REFRESH-INTERVAL;VALUE=DURATION:PT1H
X-Robots-Tag:noindex
X-PUBLISHED-TTL:PT1H
BEGIN:VTIMEZONE
TZID:America/Chicago
BEGIN:DAYLIGHT
TZOFFSETFROM:-0600
TZOFFSETTO:-0500
TZNAME:CDT
DTSTART:20250309T080000
END:DAYLIGHT
BEGIN:STANDARD
TZOFFSETFROM:-0500
TZOFFSETTO:-0600
TZNAME:CST
DTSTART:20251102T070000
END:STANDARD
BEGIN:DAYLIGHT
TZOFFSETFROM:-0600
TZOFFSETTO:-0500
TZNAME:CDT
DTSTART:20260308T080000
END:DAYLIGHT
BEGIN:STANDARD
TZOFFSETFROM:-0500
TZOFFSETTO:-0600
TZNAME:CST
DTSTART:20261101T070000
END:STANDARD
BEGIN:DAYLIGHT
TZOFFSETFROM:-0600
TZOFFSETTO:-0500
TZNAME:CDT
DTSTART:20270314T080000
END:DAYLIGHT
BEGIN:STANDARD
TZOFFSETFROM:-0500
TZOFFSETTO:-0600
TZNAME:CST
DTSTART:20271107T070000
END:STANDARD
END:VTIMEZONE
BEGIN:VEVENT
DTSTART;TZID=America/Chicago:20260605T080000
DTEND;TZID=America/Chicago:20260606T120000
DTSTAMP:20260422T123810
CREATED:20260219T175033Z
LAST-MODIFIED:20260219T175035Z
UID:20734-1780646400-1780747200@lordofglory.org
SUMMARY:Rummage Sale
DESCRIPTION:CALLING ALL SHOPPERS! \n\n\n\nAmazing deals await at our annual rummage sale!\n\n\n\nDiscover incredible deals on furniture\, clothing\, housewares\, kitchen items\, sporting equipment\, baby clothes\, shoes\, jewelry\, and so much more!  \n\n\n\n  Friday\, June 5 | 8 AM–5 PM  Saturday\, June 6 | 8 AM–12 PM \n\n\n\nEvery purchase supports Lord of Glory’s Youth Ministry\, so shop generously and make a difference! See you there!
URL:https://lordofglory.org/event/rummage-sale-3/
CATEGORIES:Community,Youth
ATTACH;FMTTYPE=image/jpeg:https://eadn-wc01-15328280.nxedge.io/wp-content/uploads/2026/02/1.jpg
END:VEVENT
BEGIN:VEVENT
DTSTART;TZID=America/Chicago:20260606T063000
DTEND;TZID=America/Chicago:20260606T083000
DTSTAMP:20260422T123810
CREATED:20251022T184013Z
LAST-MODIFIED:20260416T144817Z
UID:16174-1780727400-1780734600@lordofglory.org
SUMMARY:Sanctuary Saturdays
DESCRIPTION:You’re warmly welcomed to the sanctuary on the first Saturday of each month for a quiet and open time of connection with our heavenly Father. Whether you seek solace\, guidance\, or simply a moment of stillness\, this is your space. Come as you are and find a peaceful spot to pray\, journal\, be in God’s word\, or just be in His presence. The sanctuary will be open from 6:30 to 8:30 AM.
URL:https://lordofglory.org/event/sanctuary-saturdays/
CATEGORIES:Prayer
ATTACH;FMTTYPE=image/jpeg:https://eadn-wc01-15328280.nxedge.io/wp-content/uploads/2024/02/saturday-morning-prayer-event-lord-of-glory-grayslake-1.jpg
END:VEVENT
BEGIN:VEVENT
DTSTART;TZID=America/Chicago:20260613T080000
DTEND;TZID=America/Chicago:20260613T100000
DTSTAMP:20260422T123810
CREATED:20260416T144231Z
LAST-MODIFIED:20260416T144233Z
UID:23340-1781337600-1781344800@lordofglory.org
SUMMARY:Men's Breakfast
DESCRIPTION:Join other men for a hearty breakfast and Bible study on the second Saturday of each month in the church kitchen.
URL:https://lordofglory.org/event/mens-breakfast-2/
CATEGORIES:Men
ATTACH;FMTTYPE=image/jpeg:https://eadn-wc01-15328280.nxedge.io/wp-content/uploads/2024/07/men-bible-study-breakfast-lord-of-glory-grayslake.jpg
END:VEVENT
BEGIN:VEVENT
DTSTART;TZID=America/Chicago:20260613T090000
DTEND;TZID=America/Chicago:20260613T110000
DTSTAMP:20260422T123810
CREATED:20251022T152557Z
LAST-MODIFIED:20260416T144734Z
UID:16155-1781341200-1781348400@lordofglory.org
SUMMARY:Prayer Shawl Ministry
DESCRIPTION:All knitters and crocheters are invited to join us as we create prayer shawls for people in need of comfort and care. Please park on the shed/gym side of the parking lot (not the front lot) to allow for food pantry operations in the front parking lot.
URL:https://lordofglory.org/event/prayer-shawl-ministry-4/
CATEGORIES:Prayer
ATTACH;FMTTYPE=image/jpeg:https://eadn-wc01-15328280.nxedge.io/wp-content/uploads/2024/10/prayer-shawl-ministry-lord-of-glory.jpg
END:VEVENT
BEGIN:VEVENT
DTSTART;TZID=America/Chicago:20260615T090000
DTEND;TZID=America/Chicago:20260619T120000
DTSTAMP:20260422T123810
CREATED:20260114T180646Z
LAST-MODIFIED:20260219T160516Z
UID:19781-1781514000-1781870400@lordofglory.org
SUMMARY:Vacation Bible School
DESCRIPTION:Step through the mist into Rainforest Falls\, overflowing with wild waterfalls\, towering trees\, and colorful creatures. Beneath a canopy of chattering birds and howling monkeys\, kids plunge into a lifelong adventure of discovering the nature of God. They’ll explore what it means to be rooted in relationship with God\, their creator\, a safe place in life’s storms.
URL:https://lordofglory.org/event/vacation-bible-school/
CATEGORIES:Children,Youth
ATTACH;FMTTYPE=image/jpeg:https://eadn-wc01-15328280.nxedge.io/wp-content/uploads/2026/01/Title-slide_no-info.jpg
END:VEVENT
END:VCALENDAR