BEGIN:VCALENDAR
VERSION:2.0
PRODID:-//Lord of Glory Lutheran Church - Grayslake Illinois - ECPv6.15.20//NONSGML v1.0//EN
CALSCALE:GREGORIAN
METHOD:PUBLISH
X-ORIGINAL-URL:https://lordofglory.org
X-WR-CALDESC:Events for Lord of Glory Lutheran Church - Grayslake Illinois
REFRESH-INTERVAL;VALUE=DURATION:PT1H
X-Robots-Tag:noindex
X-PUBLISHED-TTL:PT1H
BEGIN:VTIMEZONE
TZID:America/Chicago
BEGIN:DAYLIGHT
TZOFFSETFROM:-0600
TZOFFSETTO:-0500
TZNAME:CDT
DTSTART:20250309T080000
END:DAYLIGHT
BEGIN:STANDARD
TZOFFSETFROM:-0500
TZOFFSETTO:-0600
TZNAME:CST
DTSTART:20251102T070000
END:STANDARD
BEGIN:DAYLIGHT
TZOFFSETFROM:-0600
TZOFFSETTO:-0500
TZNAME:CDT
DTSTART:20260308T080000
END:DAYLIGHT
BEGIN:STANDARD
TZOFFSETFROM:-0500
TZOFFSETTO:-0600
TZNAME:CST
DTSTART:20261101T070000
END:STANDARD
BEGIN:DAYLIGHT
TZOFFSETFROM:-0600
TZOFFSETTO:-0500
TZNAME:CDT
DTSTART:20270314T080000
END:DAYLIGHT
BEGIN:STANDARD
TZOFFSETFROM:-0500
TZOFFSETTO:-0600
TZNAME:CST
DTSTART:20271107T070000
END:STANDARD
END:VTIMEZONE
BEGIN:VEVENT
DTSTART;TZID=America/Chicago:20260707T120000
DTEND;TZID=America/Chicago:20260707T140000
DTSTAMP:20260422T143042
CREATED:20260414T202629Z
LAST-MODIFIED:20260414T202630Z
UID:23128-1783425600-1783432800@lordofglory.org
SUMMARY:Seasoned Seniors Luncheon
DESCRIPTION:Join us for our Seasoned Seniors Summer Luncheon on July 7 from 12:00–2:00 PM! Enjoy a relaxing afternoon filled with delicious BBQ\, great food\, and warm fellowship with friends old and new. Come savor the flavors of summer\, share stories\, and build meaningful connections in a welcoming and joyful atmosphere. We can’t wait to see you there!
URL:https://lordofglory.org/event/seasoned-seniors-luncheon/
CATEGORIES:Seniors
ATTACH;FMTTYPE=image/jpeg:https://eadn-wc01-15328280.nxedge.io/wp-content/uploads/2026/04/seasoned-seniors_nodates.jpg
END:VEVENT
BEGIN:VEVENT
DTSTART;TZID=America/Chicago:20260711T080000
DTEND;TZID=America/Chicago:20260711T100000
DTSTAMP:20260422T143042
CREATED:20260416T144423Z
LAST-MODIFIED:20260416T144424Z
UID:23342-1783756800-1783764000@lordofglory.org
SUMMARY:Men's Breakfast
DESCRIPTION:Join other men for a hearty breakfast and Bible study on the second Saturday of each month in the church kitchen.
URL:https://lordofglory.org/event/mens-breakfast-3/
CATEGORIES:Bible Study,Men
ATTACH;FMTTYPE=image/jpeg:https://eadn-wc01-15328280.nxedge.io/wp-content/uploads/2024/07/men-bible-study-breakfast-lord-of-glory-grayslake.jpg
END:VEVENT
BEGIN:VEVENT
DTSTART;TZID=America/Chicago:20260713T080000
DTEND;TZID=America/Chicago:20260717T170000
DTSTAMP:20260422T143042
CREATED:20260414T202850Z
LAST-MODIFIED:20260414T202851Z
UID:23130-1783929600-1784307600@lordofglory.org
SUMMARY:CIY MOVE 2026: Kingdom Workers
DESCRIPTION:July 13-17\, 2026 | Wheaton College\, IL \n\n\n\nReady to discover how God wants to use YOUR unique gifts and passions to make an eternal impact? CIY MOVE is a 5-day transformative experience combining inspiring worship\, relevant teaching\, and life-changing community. This isn’t your typical church camp\, it’s designed to help you grow in faith and discover God’s calling on your life\, regardless of where you are in your spiritual journey.
URL:https://lordofglory.org/event/ciy-move-2026-kingdom-workers/
CATEGORIES:Youth
ATTACH;FMTTYPE=image/png:https://eadn-wc01-15328280.nxedge.io/wp-content/uploads/2026/04/3_1.png
END:VEVENT
BEGIN:VEVENT
DTSTART;TZID=America/Chicago:20260718T100000
DTEND;TZID=America/Chicago:20260718T230000
DTSTAMP:20260422T143042
CREATED:20260416T144012Z
LAST-MODIFIED:20260416T144014Z
UID:23338-1784368800-1784415600@lordofglory.org
SUMMARY:Parent Tot Hour
DESCRIPTION:Parent Tot Hour is a relaxed playtime for parents and children ages 0–2 to connect\, play\, and build community in a safe\, welcoming space.
URL:https://lordofglory.org/event/parent-tot-hour-4/
ATTACH;FMTTYPE=image/jpeg:https://eadn-wc01-15328280.nxedge.io/wp-content/uploads/2026/01/parent-tot-hour.jpg
END:VEVENT
END:VCALENDAR