BEGIN:VCALENDAR
VERSION:2.0
PRODID:-//Lord of Glory Lutheran Church - Grayslake Illinois - ECPv6.15.20//NONSGML v1.0//EN
CALSCALE:GREGORIAN
METHOD:PUBLISH
X-ORIGINAL-URL:https://lordofglory.org
X-WR-CALDESC:Events for Lord of Glory Lutheran Church - Grayslake Illinois
REFRESH-INTERVAL;VALUE=DURATION:PT1H
X-Robots-Tag:noindex
X-PUBLISHED-TTL:PT1H
BEGIN:VTIMEZONE
TZID:America/Chicago
BEGIN:DAYLIGHT
TZOFFSETFROM:-0600
TZOFFSETTO:-0500
TZNAME:CDT
DTSTART:20250309T080000
END:DAYLIGHT
BEGIN:STANDARD
TZOFFSETFROM:-0500
TZOFFSETTO:-0600
TZNAME:CST
DTSTART:20251102T070000
END:STANDARD
BEGIN:DAYLIGHT
TZOFFSETFROM:-0600
TZOFFSETTO:-0500
TZNAME:CDT
DTSTART:20260308T080000
END:DAYLIGHT
BEGIN:STANDARD
TZOFFSETFROM:-0500
TZOFFSETTO:-0600
TZNAME:CST
DTSTART:20261101T070000
END:STANDARD
BEGIN:DAYLIGHT
TZOFFSETFROM:-0600
TZOFFSETTO:-0500
TZNAME:CDT
DTSTART:20270314T080000
END:DAYLIGHT
BEGIN:STANDARD
TZOFFSETFROM:-0500
TZOFFSETTO:-0600
TZNAME:CST
DTSTART:20271107T070000
END:STANDARD
END:VTIMEZONE
BEGIN:VEVENT
DTSTART;TZID=America/Chicago:20260913T090000
DTEND;TZID=America/Chicago:20260913T101500
DTSTAMP:20260422T174208
CREATED:20250818T152551Z
LAST-MODIFIED:20260416T145409Z
UID:10274-1789290000-1789294500@lordofglory.org
SUMMARY:Kickoff Sunday
DESCRIPTION:Join us for a morning packed with excitement as we kick off ministry at Lord of Glory. Festivities include a cornhole tournament\, raffles\, bouncies\, games and prizes\, and delicious treats.
URL:https://lordofglory.org/event/kickoff-sunday/
CATEGORIES:Children,Family
ATTACH;FMTTYPE=image/jpeg:https://eadn-wc01-15328280.nxedge.io/wp-content/uploads/2025/08/Kickoff_Sunday-2026.jpg
END:VEVENT
END:VCALENDAR